BEGIN:VCALENDAR
VERSION:2.0
PRODID:-//wp-events-plugin.com//6.5.2//EN
BEGIN:VEVENT
UID:41@plescop-entreprendre.fr
DTSTART;TZID=Europe/Paris:20260430T123000
DTEND;TZID=Europe/Paris:20260430T140000
DTSTAMP:20260423T084141Z
URL:https://plescop-entreprendre.fr/events/dejeuner-a-la-table-de-mme-mole
 /
SUMMARY:Déjeuner à La Table de Mme Molé
DESCRIPTION:3 formules au choix :\n\n•⁠ ⁠formule à 14.90€ c'est le
  plat du jour\n•⁠ ⁠une formule Entrée + Plat ou Plat+dessert à 16.
 90€\n•⁠ ⁠une formule intégrale à 19.90€\n\nLe menu change tous
  les jours \, sur la carte :\n•⁠ ⁠2 entrées\n•⁠ ⁠2 plats ( 1 
 poisson et 1 viande)\n•⁠ ⁠2 desserts\n\nLe choix sera fait directeme
 nt sur place
ATTACH;FMTTYPE=image/jpeg:https://plescop-entreprendre.fr/wp-content/uploa
 ds/2026/04/mme-mole.jpg
CATEGORIES:Déjeuner
LOCATION:La table de Madame Molé\, 4 Rue Camille Claudel\, PLESCOP\, 56890
 \, France
GEO:47.677238;-2.802035
X-APPLE-STRUCTURED-LOCATION;VALUE=URI;X-ADDRESS=4 Rue Camille Claudel\, PLE
 SCOP\, 56890\, France;X-APPLE-RADIUS=100;X-TITLE=La table de Madame Molé:
 geo:47.677238,-2.802035
END:VEVENT
BEGIN:VTIMEZONE
TZID:Europe/Paris
X-LIC-LOCATION:Europe/Paris
BEGIN:DAYLIGHT
DTSTART:20260329T030000
TZOFFSETFROM:+0100
TZOFFSETTO:+0200
TZNAME:CEST
END:DAYLIGHT
END:VTIMEZONE
END:VCALENDAR