BEGIN:VCALENDAR
VERSION:2.0
PRODID:-//wp-events-plugin.com//6.5.2//EN
BEGIN:VEVENT
UID:42@plescop-entreprendre.fr
DTSTART;TZID=Europe/Paris:20260512T193000
DTEND;TZID=Europe/Paris:20260512T223000
DTSTAMP:20260423T085656Z
URL:https://plescop-entreprendre.fr/events/soiree-degustation-le-gout-du-v
 in/
SUMMARY:Soirée dégustation 'Le goût du vin'
DESCRIPTION:Soirée dégustation chez Fabien et Aurèle 'Le Goût du Vin'\n
 \nJeu par équipe autour de la dégustation du vin. Alors affinez vos pala
 is !\n\nParticipation de 15€/personne comprenant la dégustation et les 
 ardoises salées\, sucrées en accompagnement.
ATTACH;FMTTYPE=image/jpeg:https://plescop-entreprendre.fr/wp-content/uploa
 ds/2026/04/logo-cave-le-gout-du-vin-1.png
CATEGORIES:Soirée
LOCATION:Le Goût du Vin\, route de Tréhuinec\, Plescop\, 56890\, France
GEO:47.683186;-2.79836
X-APPLE-STRUCTURED-LOCATION;VALUE=URI;X-ADDRESS=route de Tréhuinec\, Plesc
 op\, 56890\, France;X-APPLE-RADIUS=100;X-TITLE=Le Goût du Vin:geo:47.6831
 86,-2.79836
END:VEVENT
BEGIN:VTIMEZONE
TZID:Europe/Paris
X-LIC-LOCATION:Europe/Paris
BEGIN:DAYLIGHT
DTSTART:20260329T030000
TZOFFSETFROM:+0100
TZOFFSETTO:+0200
TZNAME:CEST
END:DAYLIGHT
END:VTIMEZONE
END:VCALENDAR